BEGIN:VCALENDAR
VERSION:2.0
PRODID:-//Yukon Convention Bureau - ECPv6.15.20//NONSGML v1.0//EN
CALSCALE:GREGORIAN
METHOD:PUBLISH
X-WR-CALNAME:Yukon Convention Bureau
X-ORIGINAL-URL:https://meetingsyukon.com
X-WR-CALDESC:Events for Yukon Convention Bureau
REFRESH-INTERVAL;VALUE=DURATION:PT1H
X-Robots-Tag:noindex
X-PUBLISHED-TTL:PT1H
BEGIN:VTIMEZONE
TZID:America/Whitehorse
BEGIN:STANDARD
TZOFFSETFROM:-0700
TZOFFSETTO:-0700
TZNAME:MST
DTSTART:20220101T000000
END:STANDARD
END:VTIMEZONE
BEGIN:VEVENT
DTSTART;VALUE=DATE:20231118
DTEND;VALUE=DATE:20231124
DTSTAMP:20260420T035039
CREATED:20230331T231016Z
LAST-MODIFIED:20230919T215619Z
UID:10000452-1700326800-1700715599@meetingsyukon.com
SUMMARY:Yukon Geoscience Forum 2023
DESCRIPTION:2023 About GeoScience\nThe Yukon Geoscience Forum & Trade Show\nNovember 19-22\, 2023\nKwanlin Dün Cultural Centre\, Whitehorse\, YT \nAbout the Event:\nThe Yukon Geoscience Forum & Trade Show is where the Yukon Mining Industry\, First Nations\, Government and Local Communities meet to advance Yukon’s sustainable exploration and mining industry. \nJoin over 650 delegates for a four-day event to share and learn more about the Yukon mining sector – the technology\, the sustainable practices & policies\, and the meaningful First Nations engagement that continue to shape our industry. \nAlongside engaging discussions and informative sessions\, we provide unparalleled networking opportunities – including our highly anticipated annual awards banquet – designed to foster valuable connections and spur business growth. With a plethora of critical minerals\, Yukon stands to be a leader in the world’s transition to a green economy. Don’t miss out on this unique occasion to connect\, learn\, and be inspired. Registration will be opening soon.
URL:https://meetingsyukon.com/event/yukon-geoscience-forum-2023/
END:VEVENT
END:VCALENDAR