BEGIN:VCALENDAR
VERSION:2.0
PRODID:-//Yukon Convention Bureau - ECPv6.15.20//NONSGML v1.0//EN
CALSCALE:GREGORIAN
METHOD:PUBLISH
X-WR-CALNAME:Yukon Convention Bureau
X-ORIGINAL-URL:https://meetingsyukon.com
X-WR-CALDESC:Events for Yukon Convention Bureau
REFRESH-INTERVAL;VALUE=DURATION:PT1H
X-Robots-Tag:noindex
X-PUBLISHED-TTL:PT1H
BEGIN:VTIMEZONE
TZID:America/Whitehorse
BEGIN:STANDARD
TZOFFSETFROM:-0700
TZOFFSETTO:-0700
TZNAME:MST
DTSTART:20220101T000000
END:STANDARD
END:VTIMEZONE
BEGIN:VEVENT
DTSTART;VALUE=DATE:20231009
DTEND;VALUE=DATE:20231016
DTSTAMP:20260420T003549
CREATED:20230802T233908Z
LAST-MODIFIED:20230802T233908Z
UID:10000462-1696870800-1697345999@meetingsyukon.com
SUMMARY:Federation of Law Societies of Canada
DESCRIPTION:Whitehorse\, Yukon. 125 Delegates
URL:https://meetingsyukon.com/event/federation-of-law-societies-of-canada/
END:VEVENT
BEGIN:VEVENT
DTSTART;VALUE=DATE:20231017
DTEND;VALUE=DATE:20231021
DTSTAMP:20260420T003549
CREATED:20230331T232219Z
LAST-MODIFIED:20230331T232219Z
UID:10000454-1697562000-1697777999@meetingsyukon.com
SUMMARY:BC Water & Waste Association (BCWWA) Yukon Water & Wastewater Workshop & Trade Show
DESCRIPTION:Whitehorse – 100 delegates
URL:https://meetingsyukon.com/event/bc-water-waste-association-bcwwa-yukon-water-wastewater-workshop-trade-show/
LOCATION:Kwanlin Dun Cultural Centre\, Whitehorse\, Canada
END:VEVENT
END:VCALENDAR